BEGIN:VCALENDAR
PRODID:brasil.gov.agenda
VERSION:1.0
BEGIN:VEVENT
DTSTART:20220215T080000Z
DTEND:20220215T120000Z
DCREATED:20220217T134032Z
UID:Compromisso-d4c27c3ae8024e8cb427ad2d43323caf
SEQUENCE:0
LAST-MODIFIED:20220217T134032Z
SUMMARY:Despachos Internos
LOCATION:Reitoria
PRIORITY:3
TRANSP:0
END:VEVENT
END:VCALENDAR
