BEGIN:VCALENDAR
PRODID:brasil.gov.agenda
VERSION:1.0
BEGIN:VEVENT
DTSTART:20220214T080000Z
DTEND:20220214T090000Z
DCREATED:20220217T133703Z
UID:Compromisso-4959b34a0d204906a90195d40707a1cd
SEQUENCE:0
LAST-MODIFIED:20220217T133703Z
SUMMARY:Despachos Internos
LOCATION:Reitoria
PRIORITY:3
TRANSP:0
END:VEVENT
END:VCALENDAR
