BEGIN:VCALENDAR
PRODID:brasil.gov.agenda
VERSION:1.0
BEGIN:VEVENT
DTSTART:20220214T093000Z
DTEND:20220214T120000Z
DCREATED:20220217T133813Z
UID:Compromisso-19658de7575c446a9f44a638717ee53e
SEQUENCE:0
LAST-MODIFIED:20220217T133813Z
SUMMARY:Despachos Internos
LOCATION:Reitoria
PRIORITY:3
TRANSP:0
END:VEVENT
END:VCALENDAR
