BEGIN:VCALENDAR
PRODID:brasil.gov.agenda
VERSION:1.0
BEGIN:VEVENT
DTSTART:20220214T090000Z
DTEND:20220214T093000Z
DCREATED:20220217T133741Z
UID:Compromisso-607ab1dea2274387a05262d6b3f87a3d
SEQUENCE:0
LAST-MODIFIED:20220217T133741Z
SUMMARY:Colação de Grau Antrecipada
LOCATION:Reitoria
PRIORITY:3
TRANSP:0
END:VEVENT
END:VCALENDAR
