BEGIN:VCALENDAR
PRODID:brasil.gov.agenda
VERSION:1.0
BEGIN:VEVENT
DTSTART:20220209T103000Z
DTEND:20220209T120000Z
DCREATED:20220214T131204Z
UID:Compromisso-c74eef4182824f31a95dda05fc5e04b3
SEQUENCE:0
LAST-MODIFIED:20220214T131204Z
SUMMARY:Despachos Internos
LOCATION:Reitoria
PRIORITY:3
TRANSP:0
END:VEVENT
END:VCALENDAR
