BEGIN:VCALENDAR
PRODID:brasil.gov.agenda
VERSION:1.0
BEGIN:VEVENT
DTSTART:20220209T100000Z
DTEND:20220209T103000Z
DCREATED:20220214T131137Z
UID:Compromisso-2d8e1bd78daf46068a6854fb12c853a5
SEQUENCE:0
LAST-MODIFIED:20220214T131137Z
SUMMARY:Colação de Grau Posterior
LOCATION:Reitoria
PRIORITY:3
TRANSP:0
END:VEVENT
END:VCALENDAR
