BEGIN:VCALENDAR
PRODID:brasil.gov.agenda
VERSION:1.0
BEGIN:VEVENT
DTSTART:20220207T140000Z
DTEND:20220207T180000Z
DCREATED:20220214T130802Z
UID:Compromisso-7af65e78167f4aedbc11c280ec9e934d
SEQUENCE:0
LAST-MODIFIED:20220622T143209Z
SUMMARY:266 ª reunião em caráter ordinário do CONCUR
LOCATION:Reitoria
PRIORITY:3
TRANSP:0
END:VEVENT
END:VCALENDAR
