BEGIN:VCALENDAR
PRODID:brasil.gov.agenda
VERSION:1.0
BEGIN:VEVENT
DTSTART:20220203T080000Z
DTEND:20220203T120000Z
DCREATED:20220208T143905Z
UID:Compromisso-07e74034515747479c3a2e4bf38b976f
SEQUENCE:0
LAST-MODIFIED:20220208T143905Z
SUMMARY:Despachos Internos
LOCATION:Reitoria
PRIORITY:3
TRANSP:0
END:VEVENT
END:VCALENDAR
