BEGIN:VCALENDAR
PRODID:brasil.gov.agenda
VERSION:1.0
BEGIN:VEVENT
DTSTART:20220201T080000Z
DTEND:20220201T090000Z
DCREATED:20220208T143619Z
UID:Compromisso-31406362b4684c5398f04be30b914dc9
SEQUENCE:0
LAST-MODIFIED:20220208T143619Z
SUMMARY:Despachos Internos
LOCATION:Reitoria
PRIORITY:3
TRANSP:0
END:VEVENT
END:VCALENDAR
