BEGIN:VCALENDAR
PRODID:brasil.gov.agenda
VERSION:1.0
BEGIN:VEVENT
DTSTART:20220201T140000Z
DTEND:20220201T180000Z
DCREATED:20220208T143635Z
UID:Compromisso-6740a6dcbc8f4db1aa25e8bfd00416b5
SEQUENCE:0
LAST-MODIFIED:20220208T143635Z
SUMMARY:Despachos Internos
LOCATION:Reitoria
PRIORITY:3
TRANSP:0
END:VEVENT
END:VCALENDAR
