BEGIN:VCALENDAR
PRODID:brasil.gov.agenda
VERSION:1.0
BEGIN:VEVENT
DTSTART:20220131T080000Z
DTEND:20220131T120000Z
DCREATED:20220201T143233Z
UID:Compromisso-b36b70291bf84390ab4051857ff94f40
SEQUENCE:0
LAST-MODIFIED:20220201T143233Z
SUMMARY:Despachos Internos
LOCATION:Reitoria
PRIORITY:3
TRANSP:0
END:VEVENT
END:VCALENDAR
