BEGIN:VCALENDAR
PRODID:brasil.gov.agenda
VERSION:1.0
BEGIN:VEVENT
DTSTART:20220131T140000Z
DTEND:20220131T180000Z
DCREATED:20220201T143252Z
UID:Compromisso-6d4eb69a97f84ea3a85a07b6870d140d
SEQUENCE:0
LAST-MODIFIED:20220201T143252Z
SUMMARY:Despachos Internos
LOCATION:Reitoria
PRIORITY:3
TRANSP:0
END:VEVENT
END:VCALENDAR
