BEGIN:VCALENDAR
PRODID:brasil.gov.agenda
VERSION:1.0
BEGIN:VEVENT
DTSTART:20220128T143000Z
DTEND:20220128T180000Z
DCREATED:20220131T195350Z
UID:Compromisso-8276fdda1d2f4bcfa71bea72ef091357
SEQUENCE:0
LAST-MODIFIED:20220131T195350Z
SUMMARY:Reunião com a PROPLAN
DESCRIPTION:PAC 2023 e Lei 14.133
LOCATION:Reitoria
PRIORITY:3
TRANSP:0
END:VEVENT
END:VCALENDAR
