BEGIN:VCALENDAR
PRODID:brasil.gov.agenda
VERSION:1.0
BEGIN:VEVENT
DTSTART:20220128T080000Z
DTEND:20220128T093000Z
DCREATED:20220131T195237Z
UID:Compromisso-f6840a4b7f66480ca324ea6a5e8ebadf
SEQUENCE:0
LAST-MODIFIED:20220131T195237Z
SUMMARY:Despachos Internos
LOCATION:Reitoria
PRIORITY:3
TRANSP:0
END:VEVENT
END:VCALENDAR
