BEGIN:VCALENDAR
PRODID:brasil.gov.agenda
VERSION:1.0
BEGIN:VEVENT
DTSTART:20220127T143000Z
DTEND:20220127T180000Z
DCREATED:20220131T195023Z
UID:Compromisso-d44969be1a1243ffbc7c2b3210ffc25d
SEQUENCE:0
LAST-MODIFIED:20220131T195023Z
SUMMARY:Taxa de Bancada FAPEMIG\, FUNARBE e DENTALCREME
LOCATION:Reitoria
PRIORITY:3
TRANSP:0
END:VEVENT
END:VCALENDAR
