BEGIN:VCALENDAR
PRODID:brasil.gov.agenda
VERSION:1.0
BEGIN:VEVENT
DTSTART:20220125T143000Z
DTEND:20220125T180000Z
DCREATED:20220131T194436Z
UID:Compromisso-e91abc63cafd42829c118d86be700164
SEQUENCE:0
LAST-MODIFIED:20220131T194436Z
SUMMARY:Reunião Vice-Reitor e Pró-Reitores e CPBio
DESCRIPTION:Retorno presencial em 25 de abril de 2022
LOCATION:Reitoria
PRIORITY:3
TRANSP:0
END:VEVENT
END:VCALENDAR
