BEGIN:VCALENDAR
PRODID:brasil.gov.agenda
VERSION:1.0
BEGIN:VEVENT
DTSTART:20220125T093000Z
DTEND:20220125T120000Z
DCREATED:20220131T194359Z
UID:Compromisso-b128a3a0e16b4cb78e482c272f14cd5f
SEQUENCE:0
LAST-MODIFIED:20220131T194359Z
SUMMARY:Reunião Vice-Reitor e Discente
DESCRIPTION:Assunto Pessoal
LOCATION:Reitoria
PRIORITY:3
TRANSP:0
END:VEVENT
END:VCALENDAR
