BEGIN:VCALENDAR
PRODID:brasil.gov.agenda
VERSION:1.0
BEGIN:VEVENT
DTSTART:20220121T080000Z
DTEND:20220121T120000Z
DCREATED:20220124T123133Z
UID:Compromisso-84490ad2006c4365ab96971a4034ec23
SEQUENCE:0
LAST-MODIFIED:20220124T123133Z
SUMMARY:Despachos Internos
LOCATION:Reitoria
PRIORITY:3
TRANSP:0
END:VEVENT
END:VCALENDAR
