BEGIN:VCALENDAR
PRODID:brasil.gov.agenda
VERSION:1.0
BEGIN:VEVENT
DTSTART:20220120T080000Z
DTEND:20220120T120000Z
DCREATED:20220124T123004Z
UID:Compromisso-b809f73389274f5eb369c18470ce9ec1
SEQUENCE:0
LAST-MODIFIED:20220124T123004Z
SUMMARY:Despachos Internos
LOCATION:Reitoria
PRIORITY:3
TRANSP:0
END:VEVENT
END:VCALENDAR
