BEGIN:VCALENDAR
PRODID:brasil.gov.agenda
VERSION:1.0
BEGIN:VEVENT
DTSTART:20220120T140000Z
DTEND:20220120T180000Z
DCREATED:20220124T123018Z
UID:Compromisso-6803441e540f4f738934085877cf2185
SEQUENCE:0
LAST-MODIFIED:20220124T123018Z
SUMMARY:Despachos Internos
LOCATION:Reitoria
PRIORITY:3
TRANSP:0
END:VEVENT
END:VCALENDAR
