BEGIN:VCALENDAR
PRODID:brasil.gov.agenda
VERSION:1.0
BEGIN:VEVENT
DTSTART:20220119T080000Z
DTEND:20220119T120000Z
DCREATED:20220119T182131Z
UID:Compromisso-7e626e33fcc3497f8ff94a083d4a7a94
SEQUENCE:0
LAST-MODIFIED:20220119T182131Z
SUMMARY:Despachos Internos
LOCATION:Reitoria
PRIORITY:3
TRANSP:0
END:VEVENT
END:VCALENDAR
