BEGIN:VCALENDAR
PRODID:brasil.gov.agenda
VERSION:1.0
BEGIN:VEVENT
DTSTART:20220119T140000Z
DTEND:20220119T180000Z
DCREATED:20220119T182149Z
UID:Compromisso-ed154b35ac324492b11e4bba8d5b400b
SEQUENCE:0
LAST-MODIFIED:20220119T182149Z
SUMMARY:Despachos Internos
LOCATION:Reitoria
PRIORITY:3
TRANSP:0
END:VEVENT
END:VCALENDAR
