BEGIN:VCALENDAR
PRODID:brasil.gov.agenda
VERSION:1.0
BEGIN:VEVENT
DTSTART:20220118T080000Z
DTEND:20220118T120000Z
DCREATED:20220119T182025Z
UID:Compromisso-3f17821f0b7d4858b6612bb244bea0d3
SEQUENCE:0
LAST-MODIFIED:20220119T182025Z
SUMMARY:Reunião Vice-Reitor e Secretária dos Conselhos
DESCRIPTION:CONSU
LOCATION:Reitoria
PRIORITY:3
TRANSP:0
END:VEVENT
END:VCALENDAR
