BEGIN:VCALENDAR
PRODID:brasil.gov.agenda
VERSION:1.0
BEGIN:VEVENT
DTSTART:20220117T090000Z
DTEND:20220117T093000Z
DCREATED:20220119T181759Z
UID:Compromisso-6afdc5a3e7fe48be945674062e165317
SEQUENCE:0
LAST-MODIFIED:20220119T181759Z
SUMMARY:Posse Docente
LOCATION:Reitoria
PRIORITY:3
TRANSP:0
END:VEVENT
END:VCALENDAR
