BEGIN:VCALENDAR
PRODID:brasil.gov.agenda
VERSION:1.0
BEGIN:VEVENT
DTSTART:20220117T140000Z
DTEND:20220117T180000Z
DCREATED:20220119T181839Z
UID:Compromisso-e149444fcee74bdc845c1a949da0a1e3
SEQUENCE:0
LAST-MODIFIED:20220119T181840Z
SUMMARY:Despachos Internos
LOCATION:Reitoria
PRIORITY:3
TRANSP:0
END:VEVENT
END:VCALENDAR
