BEGIN:VCALENDAR
PRODID:brasil.gov.agenda
VERSION:1.0
BEGIN:VEVENT
DTSTART:20220117T093000Z
DTEND:20220117T120000Z
DCREATED:20220119T181820Z
UID:Compromisso-dd4f84753efb4f42b4e4a97fcfce53a4
SEQUENCE:0
LAST-MODIFIED:20220119T181820Z
SUMMARY:Despachos Internos
LOCATION:Reitoria
PRIORITY:3
TRANSP:0
END:VEVENT
END:VCALENDAR
