BEGIN:VCALENDAR
PRODID:brasil.gov.agenda
VERSION:1.0
BEGIN:VEVENT
DTSTART:20220114T153000Z
DTEND:20220114T180000Z
DCREATED:20220119T181628Z
UID:Compromisso-d2bb87dd69c34302bb799e5cd0aad6cf
SEQUENCE:0
LAST-MODIFIED:20220119T181628Z
SUMMARY:Reunião Vice-Reitor e Pró-Reitores
DESCRIPTION:Continuação - Retorno presencial em 25 de abril de 2022
LOCATION:Reitoria
PRIORITY:3
TRANSP:0
END:VEVENT
END:VCALENDAR
