BEGIN:VCALENDAR
PRODID:brasil.gov.agenda
VERSION:1.0
BEGIN:VEVENT
DTSTART:20220114T080000Z
DTEND:20220114T120000Z
DCREATED:20220119T181528Z
UID:Compromisso-aae7969afe164223ac78a19ef67e2606
SEQUENCE:0
LAST-MODIFIED:20220119T181528Z
SUMMARY:Despachos Internos
LOCATION:Reitoria
PRIORITY:3
TRANSP:0
END:VEVENT
END:VCALENDAR
