BEGIN:VCALENDAR
PRODID:brasil.gov.agenda
VERSION:1.0
BEGIN:VEVENT
DTSTART:20220113T080000Z
DTEND:20220113T120000Z
DCREATED:20220113T182352Z
UID:Compromisso-9655f284c4294b7bb96a63f325d901b4
SEQUENCE:0
LAST-MODIFIED:20220113T182416Z
SUMMARY:Despachos Internos
LOCATION:Reitoria
PRIORITY:3
TRANSP:0
END:VEVENT
END:VCALENDAR
