BEGIN:VCALENDAR
PRODID:brasil.gov.agenda
VERSION:1.0
BEGIN:VEVENT
DTSTART:20220113T140000Z
DTEND:20220113T180000Z
DCREATED:20220113T182433Z
UID:Compromisso-fb4d381c1cd84ecdac5b608d83aa15b6
SEQUENCE:0
LAST-MODIFIED:20220113T182433Z
SUMMARY:Despachos Internos
LOCATION:Reitoria
PRIORITY:3
TRANSP:0
END:VEVENT
END:VCALENDAR
