BEGIN:VCALENDAR
PRODID:brasil.gov.agenda
VERSION:1.0
BEGIN:VEVENT
DTSTART:20220112T093000Z
DTEND:20220112T100000Z
DCREATED:20220112T124357Z
UID:Compromisso-2e39cecd54fa43bb92c9a7c4bf0d9a71
SEQUENCE:0
LAST-MODIFIED:20220112T124357Z
SUMMARY:Posse TA
LOCATION:Reitoria
PRIORITY:3
TRANSP:0
END:VEVENT
END:VCALENDAR
