BEGIN:VCALENDAR
PRODID:brasil.gov.agenda
VERSION:1.0
BEGIN:VEVENT
DTSTART:20220112T080000Z
DTEND:20220112T093000Z
DCREATED:20220112T124315Z
UID:Compromisso-c53c23999d644250ba762313fcae7f6f
SEQUENCE:0
LAST-MODIFIED:20220112T124315Z
SUMMARY:Despachos Internos
LOCATION:Reitoria
PRIORITY:3
TRANSP:0
END:VEVENT
END:VCALENDAR
