BEGIN:VCALENDAR
PRODID:brasil.gov.agenda
VERSION:1.0
BEGIN:VEVENT
DTSTART:20220112T153000Z
DTEND:20220112T180000Z
DCREATED:20220112T124503Z
UID:Compromisso-2d390e8ba361437a82e3ea00fa46403e
SEQUENCE:0
LAST-MODIFIED:20220112T124503Z
SUMMARY:Despachos Internos
LOCATION:Reitoria
PRIORITY:3
TRANSP:0
END:VEVENT
END:VCALENDAR
