BEGIN:VCALENDAR
PRODID:brasil.gov.agenda
VERSION:1.0
BEGIN:VEVENT
DTSTART:20220112T100000Z
DTEND:20220112T120000Z
DCREATED:20220112T124415Z
UID:Compromisso-3ef039b4057148949e0f041f02dbff27
SEQUENCE:0
LAST-MODIFIED:20220112T124416Z
SUMMARY:Despachos Internos
LOCATION:Reitoria
PRIORITY:3
TRANSP:0
END:VEVENT
END:VCALENDAR
