BEGIN:VCALENDAR
PRODID:brasil.gov.agenda
VERSION:1.0
BEGIN:VEVENT
DTSTART:20220112T140000Z
DTEND:20220112T153000Z
DCREATED:20220112T124444Z
UID:Compromisso-eba2bbbad68e4d96a969d3034dc7c08d
SEQUENCE:0
LAST-MODIFIED:20220112T124444Z
SUMMARY:Coleção de Grau Antecipada
LOCATION:Reitoria
PRIORITY:3
TRANSP:0
END:VEVENT
END:VCALENDAR
