BEGIN:VCALENDAR
PRODID:brasil.gov.agenda
VERSION:1.0
BEGIN:VEVENT
DTSTART:20220111T080000Z
DTEND:20220111T120000Z
DCREATED:20220112T124156Z
UID:Compromisso-30446480318a4471abcbc8cdaefe5a42
SEQUENCE:0
LAST-MODIFIED:20220112T124156Z
SUMMARY:Despachos Internos
LOCATION:Reitoria
PRIORITY:3
TRANSP:0
END:VEVENT
END:VCALENDAR
