BEGIN:VCALENDAR
PRODID:brasil.gov.agenda
VERSION:1.0
BEGIN:VEVENT
DTSTART:20220111T140000Z
DTEND:20220111T180000Z
DCREATED:20220112T124214Z
UID:Compromisso-a102b4f4fcdd4a8d8522eebbf070ad3b
SEQUENCE:0
LAST-MODIFIED:20220112T124214Z
SUMMARY:Despachos Internos
LOCATION:Reitoria
PRIORITY:3
TRANSP:0
END:VEVENT
END:VCALENDAR
