BEGIN:VCALENDAR
PRODID:brasil.gov.agenda
VERSION:1.0
BEGIN:VEVENT
DTSTART:20220106T000000Z
DTEND:20220106T000000Z
DCREATED:20220112T123637Z
UID:Compromisso-a3d9fe186e074e62854678c24d0d3354
SEQUENCE:0
LAST-MODIFIED:20220112T123637Z
SUMMARY:Férias Regulamentares
LOCATION:Reitoria
PRIORITY:3
TRANSP:0
END:VEVENT
END:VCALENDAR
