BEGIN:VCALENDAR
PRODID:brasil.gov.agenda
VERSION:1.0
BEGIN:VEVENT
DTSTART:20211230T000000Z
DTEND:20211230T000000Z
DCREATED:20220103T125434Z
UID:Compromisso-2000a634d85f47efa9020a86fb94bb24
SEQUENCE:0
LAST-MODIFIED:20220103T125434Z
SUMMARY:Recesso Administrativo
LOCATION:Reitoria
PRIORITY:3
TRANSP:0
END:VEVENT
END:VCALENDAR
