BEGIN:VCALENDAR
PRODID:brasil.gov.agenda
VERSION:1.0
BEGIN:VEVENT
DTSTART:20211227T000000Z
DTEND:20211227T000000Z
DCREATED:20220103T125145Z
UID:Compromisso-ca93f9467cbe4abfa5947f187a606ca9
SEQUENCE:0
LAST-MODIFIED:20220103T125145Z
SUMMARY:Recesso Administrativo
LOCATION:Reitoria
PRIORITY:3
TRANSP:0
END:VEVENT
END:VCALENDAR
