BEGIN:VCALENDAR
PRODID:brasil.gov.agenda
VERSION:1.0
BEGIN:VEVENT
DTSTART:20211224T000000Z
DTEND:20211224T000000Z
DCREATED:20220103T124910Z
UID:Compromisso-a4c2b12a10884be388f3bd9ab3b0985d
SEQUENCE:0
LAST-MODIFIED:20220103T124910Z
SUMMARY:Recesso Administrativo
LOCATION:Reitoria
PRIORITY:3
TRANSP:0
END:VEVENT
END:VCALENDAR
