BEGIN:VCALENDAR
PRODID:brasil.gov.agenda
VERSION:1.0
BEGIN:VEVENT
DTSTART:20211223T100000Z
DTEND:20211223T120000Z
DCREATED:20211223T172731Z
UID:Compromisso-4e36c5b0fb9149c28551cf62f52737e7
SEQUENCE:0
LAST-MODIFIED:20211223T172731Z
SUMMARY:Reunião com o Diretor de Governância Institucional
DESCRIPTION:Unidade Integridade
LOCATION:Reitoria
PRIORITY:3
TRANSP:0
END:VEVENT
END:VCALENDAR
