BEGIN:VCALENDAR
PRODID:brasil.gov.agenda
VERSION:1.0
BEGIN:VEVENT
DTSTART:20211223T140000Z
DTEND:20211223T150000Z
DCREATED:20211223T172841Z
UID:Compromisso-bad33b927dee4505bc968ef1ebee1aa6
SEQUENCE:0
LAST-MODIFIED:20211223T172841Z
SUMMARY:Reunião com a Comissão de Ética
DESCRIPTION:Assuntos relacionados a Comissão de Ética
LOCATION:Reitoria
PRIORITY:3
TRANSP:0
END:VEVENT
END:VCALENDAR
