BEGIN:VCALENDAR
PRODID:brasil.gov.agenda
VERSION:1.0
BEGIN:VEVENT
DTSTART:20211223T080000Z
DTEND:20211223T100000Z
DCREATED:20211223T172645Z
UID:Compromisso-c519844913d646dcae83fc1b491c9b6f
SEQUENCE:0
LAST-MODIFIED:20211223T172645Z
SUMMARY:Despachos Internos
LOCATION:Reitoria
PRIORITY:3
TRANSP:0
END:VEVENT
END:VCALENDAR
