BEGIN:VCALENDAR
PRODID:brasil.gov.agenda
VERSION:1.0
BEGIN:VEVENT
DTSTART:20211223T150000Z
DTEND:20211223T180000Z
DCREATED:20211223T172858Z
UID:Compromisso-1349dd45f13f4d1bb1da95f28564ce21
SEQUENCE:0
LAST-MODIFIED:20211223T172858Z
SUMMARY:Despachos Internos
LOCATION:Reitoria
PRIORITY:3
TRANSP:0
END:VEVENT
END:VCALENDAR
