BEGIN:VCALENDAR
PRODID:brasil.gov.agenda
VERSION:1.0
BEGIN:VEVENT
DTSTART:20211222T083000Z
DTEND:20211222T120000Z
DCREATED:20211223T172304Z
UID:Compromisso-2b0841ad154240068506d674f6f47ee3
SEQUENCE:0
LAST-MODIFIED:20211223T172304Z
SUMMARY:Reunião CONSU
DESCRIPTION:263.ª reunião\, sendo a 112ª sessão  em caráter extra
 ordinário do CONSU
LOCATION:Reitoria
PRIORITY:3
TRANSP:0
END:VEVENT
END:VCALENDAR
