BEGIN:VCALENDAR
PRODID:brasil.gov.agenda
VERSION:1.0
BEGIN:VEVENT
DTSTART:20211222T140000Z
DTEND:20211222T150000Z
DCREATED:20211223T172412Z
UID:Compromisso-6e2d1204c0734c33a4612a463f0a743f
SEQUENCE:0
LAST-MODIFIED:20211223T172412Z
SUMMARY:Reunião com Secretária dos Conselhos Universitários
DESCRIPTION:Assuntos referentes ao CONSU
LOCATION:Reitoria
PRIORITY:3
TRANSP:0
END:VEVENT
END:VCALENDAR
