BEGIN:VCALENDAR
PRODID:brasil.gov.agenda
VERSION:1.0
BEGIN:VEVENT
DTSTART:20211222T150000Z
DTEND:20211222T180000Z
DCREATED:20211223T172451Z
UID:Compromisso-4ca987b653984716a476c6785fd686b1
SEQUENCE:0
LAST-MODIFIED:20211223T172452Z
SUMMARY:Despachos Internos
LOCATION:Reitoria
PRIORITY:3
TRANSP:0
END:VEVENT
END:VCALENDAR
