BEGIN:VCALENDAR
PRODID:brasil.gov.agenda
VERSION:1.0
BEGIN:VEVENT
DTSTART:20211221T140000Z
DTEND:20211221T180000Z
DCREATED:20211221T130753Z
UID:Compromisso-9cc7d273164b471895ce3dd9bec7067c
SEQUENCE:0
LAST-MODIFIED:20211221T130753Z
SUMMARY:Despachos Internos
PRIORITY:3
TRANSP:0
END:VEVENT
END:VCALENDAR
