BEGIN:VCALENDAR
PRODID:brasil.gov.agenda
VERSION:1.0
BEGIN:VEVENT
DTSTART:20211220T080000Z
DTEND:20211220T120000Z
DCREATED:20211220T144354Z
UID:Compromisso-e45a3a71f3ac4c03a106650a349bc850
SEQUENCE:0
LAST-MODIFIED:20211220T144354Z
SUMMARY:Despachos Internos
PRIORITY:3
TRANSP:0
END:VEVENT
END:VCALENDAR
